BEGIN:VCALENDAR
VERSION:2.0
PRODID:-//360 Padel Tour UAE - ECPv6.9.1//NONSGML v1.0//EN
CALSCALE:GREGORIAN
METHOD:PUBLISH
X-WR-CALNAME:360 Padel Tour UAE
X-ORIGINAL-URL:https://uae.360padeltour.com
X-WR-CALDESC:Events for 360 Padel Tour UAE
REFRESH-INTERVAL;VALUE=DURATION:PT1H
X-Robots-Tag:noindex
X-PUBLISHED-TTL:PT1H
BEGIN:VTIMEZONE
TZID:Asia/Dubai
BEGIN:STANDARD
TZOFFSETFROM:+0400
TZOFFSETTO:+0400
TZNAME:+04
DTSTART:20240101T000000
END:STANDARD
END:VTIMEZONE
BEGIN:VEVENT
DTSTART;VALUE=DATE:20240921
DTEND;VALUE=DATE:20240922
DTSTAMP:20260425T194219
CREATED:20240909T150122Z
LAST-MODIFIED:20240913T073416Z
UID:10000013-1726876800-1726963199@uae.360padeltour.com
SUMMARY:21/9 Level D Tournament
DESCRIPTION:Level D Players: WPPR up to 2.75
URL:https://uae.360padeltour.com/tournament/21-9-level-d-tournament/
LOCATION:ZY Padel & Fitness Hub\, 18th Street\, Al Quoz\, Dubai\, United Arab Emirates
ATTACH;FMTTYPE=image/png:https://uae.360padeltour.com/wp-content/uploads/21-Sep.png
GEO:25.135495736101;55.230581967777
X-APPLE-STRUCTURED-LOCATION;VALUE=URI;X-ADDRESS=ZY Padel & Fitness Hub 18th Street Al Quoz Dubai United Arab Emirates;X-APPLE-RADIUS=500;X-TITLE=18th Street:geo:55.230581967777,25.135495736101
END:VEVENT
END:VCALENDAR